{"text_format":"1","workbook":"xlsx","n_sheets":7,"sheets":["Pannello","Griglia","Indicatori","Risultati","Word","Voto","Giudizi"],"not_rendered":{"charts":1,"images":0,"macros":1,"external_links":0,"defined_names":0,"comments":0,"pivot_tables":0},"unopened":[],"bounds":{"document_bytes":16777216,"sheet_cells":100000,"rows_first":2000,"rows_last":500,"rows_between":2000,"halvings":0,"cell_chars":16384,"cell_head_chars":4096},"cells_cut":0,"cells_raw":0,"read":"whole","date_system":"1900"}

{"sheet":"Pannello","index":0,"n_rows":0,"n_cols":0,"rows_kept":0,"cut":false,"hidden":false,"merged":[]}

{"sheet":"Griglia","index":1,"n_rows":5,"n_cols":7,"rows_kept":5,"cut":false,"hidden":false,"merged":[]}
[null,10,9,7,6,4]
["Conoscenza dei contenuti","Ha dimostrato una completa conoscenza dei contenuti richiesti, ","Ha dimostrato una più che buona conoscenza dei contenuti richiesti, ","Ha dimostrato più che sufficiente conoscenza dei contenuti richiesti nonostante alcune imprecisioni, ","Ha dimostrato una quasi sufficiente conoscenza dei contenuti, con alcune lacune, ","Ha dimostrato una solo parziale conoscenza dei contenuti richiesti, "]
["Risoluzione dei problemi","un'ottima capacità di analisi e di risoluzione dei quesiti che richiedono ragionamento e ","una più che buona capacità di analisi e di risoluzione dei quesiti che richiedono ragionamento e ","una più che sufficiente capacità di analisi e risoluzione dei quesiti che richiedono ragionamento e ","una sufficiente capacità di analisi e risoluzione dei quesiti che richiedono ragionamento e ","una solo parziale capacità di analisi e risoluzione dei quesiti che richiedono ragionamento e "]
["Capacità di calcolo","un'ottima capacità di calcolo. ","una più che buona capacità di calcolo. ","una discreta capacità di calcolo. ","una capacità di calcolo limitata alle situazioni più semplici. ","una solo parziale capacità di calcolo, con un elevato numero di errori che compromettono il raggiungimento dei risultati corretti. "," "]
["Descrizione del procedimento","Ha descritto in modo completo e ordinato il procedimento utilizzato per rispondere ai quesiti.","Ha descritto in modo completo il procedimento utilizzato per risolvere i quesiti.","Ha descritto in modo  corretto  il procedimento utilizzato per risolvere i quesiti.","Ha descritto in modo superficiale il procedimento utilizzato per risolvere i quesiti.","Ha descritto solo parzialmente il procedimento utilizzato per risolvere i quesiti."]

{"sheet":"Indicatori","index":2,"n_rows":5,"n_cols":3,"rows_kept":5,"cut":false,"hidden":false,"merged":[]}
[null,"Peso","Indicatori"]
[{"$f":"Griglia!A2","v":"Conoscenza dei contenuti"},5]
[{"$f":"Griglia!A3","v":"Risoluzione dei problemi"},5]
[{"$f":"Griglia!A4","v":"Capacità di calcolo"},5]
[{"$f":"Griglia!A5","v":"Descrizione del procedimento"},5]

{"sheet":"Risultati","index":3,"n_rows":91,"n_cols":4,"rows_kept":91,"cut":false,"hidden":false,"merged":[]}
["Alunno","Punteggio","Voto","Giudizio"]
[{"$f":"Giudizi!A2","v":0},{"$f":"Giudizi!K2","v":""},{"$f":"ROUND(Giudizi!U2*2,0)/2","v":0},{"$f":"Giudizi!L2","v":""}]
[{"$f":"Giudizi!A3","v":0},{"$f":"Giudizi!K3","v":""},{"$f":"ROUND(Giudizi!U3*2,0)/2","v":0},{"$f":"Giudizi!L3","v":""}]
[{"$f":"Giudizi!A4","v":0},{"$f":"Giudizi!K4","v":""},{"$f":"ROUND(Giudizi!U4*2,0)/2","v":0},{"$f":"Giudizi!L4","v":""}]
[{"$f":"Giudizi!A5","v":0},{"$f":"Giudizi!K5","v":""},{"$f":"ROUND(Giudizi!U5*2,0)/2","v":0},{"$f":"Giudizi!L5","v":""}]
[{"$f":"Giudizi!A6","v":0},{"$f":"Giudizi!K6","v":""},{"$f":"ROUND(Giudizi!U6*2,0)/2","v":0},{"$f":"Giudizi!L6","v":""}]
[{"$f":"Giudizi!A7","v":0},{"$f":"Giudizi!K7","v":""},{"$f":"ROUND(Giudizi!U7*2,0)/2","v":0},{"$f":"Giudizi!L7","v":""}]
[{"$f":"Giudizi!A8","v":0},{"$f":"Giudizi!K8","v":""},{"$f":"ROUND(Giudizi!U8*2,0)/2","v":0},{"$f":"Giudizi!L8","v":""}]
[{"$f":"Giudizi!A9","v":0},{"$f":"Giudizi!K9","v":""},{"$f":"ROUND(Giudizi!U9*2,0)/2","v":0},{"$f":"Giudizi!L9","v":""}]
[{"$f":"Giudizi!A10","v":0},{"$f":"Giudizi!K10","v":""},{"$f":"ROUND(Giudizi!U10*2,0)/2","v":0},{"$f":"Giudizi!L10","v":""}]
[{"$f":"Giudizi!A11","v":0},{"$f":"Giudizi!K11","v":""},{"$f":"ROUND(Giudizi!U11*2,0)/2","v":0},{"$f":"Giudizi!L11","v":""}]
[{"$f":"Giudizi!A12","v":0},{"$f":"Giudizi!K12","v":""},{"$f":"ROUND(Giudizi!U12*2,0)/2","v":0},{"$f":"Giudizi!L12","v":""}]
[{"$f":"Giudizi!A13","v":0},{"$f":"Giudizi!K13","v":""},{"$f":"ROUND(Giudizi!U13*2,0)/2","v":0},{"$f":"Giudizi!L13","v":""}]
[{"$f":"Giudizi!A14","v":0},{"$f":"Giudizi!K14","v":""},{"$f":"ROUND(Giudizi!U14*2,0)/2","v":0},{"$f":"Giudizi!L14","v":""}]
[{"$f":"Giudizi!A15","v":0},{"$f":"Giudizi!K15","v":""},{"$f":"ROUND(Giudizi!U15*2,0)/2","v":0},{"$f":"Giudizi!L15","v":""}]
[{"$f":"Giudizi!A16","v":0},{"$f":"Giudizi!K16","v":""},{"$f":"ROUND(Giudizi!U16*2,0)/2","v":0},{"$f":"Giudizi!L16","v":""}]
[{"$f":"Giudizi!A17","v":0},{"$f":"Giudizi!K17","v":""},{"$f":"ROUND(Giudizi!U17*2,0)/2","v":0},{"$f":"Giudizi!L17","v":""}]
[{"$f":"Giudizi!A18","v":0},{"$f":"Giudizi!K18","v":""},{"$f":"ROUND(Giudizi!U18*2,0)/2","v":0},{"$f":"Giudizi!L18","v":""}]
[{"$f":"Giudizi!A19","v":0},{"$f":"Giudizi!K19","v":""},{"$f":"ROUND(Giudizi!U19*2,0)/2","v":0},{"$f":"Giudizi!L19","v":""}]
[{"$f":"Giudizi!A20","v":0},{"$f":"Giudizi!K20","v":""},{"$f":"ROUND(Giudizi!U20*2,0)/2","v":0},{"$f":"Giudizi!L20","v":""}]
[{"$f":"Giudizi!A21","v":0},{"$f":"Giudizi!K21","v":""},{"$f":"ROUND(Giudizi!U21*2,0)/2","v":0},{"$f":"Giudizi!L21","v":""}]
[{"$f":"Giudizi!A22","v":0},{"$f":"Giudizi!K22","v":""},{"$f":"ROUND(Giudizi!U22*2,0)/2","v":0},{"$f":"Giudizi!L22","v":""}]
[{"$f":"Giudizi!A23","v":0},{"$f":"Giudizi!K23","v":""},{"$f":"ROUND(Giudizi!U23*2,0)/2","v":0},{"$f":"Giudizi!L23","v":""}]
[{"$f":"Giudizi!A24","v":0},{"$f":"Giudizi!K24","v":""},{"$f":"ROUND(Giudizi!U24*2,0)/2","v":0},{"$f":"Giudizi!L24","v":""}]
[{"$f":"Giudizi!A25","v":0},{"$f":"Giudizi!K25","v":""},{"$f":"ROUND(Giudizi!U25*2,0)/2","v":0},{"$f":"Giudizi!L25","v":""}]
[{"$f":"Giudizi!A26","v":0},{"$f":"Giudizi!K26","v":""},{"$f":"ROUND(Giudizi!U26*2,0)/2","v":0},{"$f":"Giudizi!L26","v":""}]
[{"$f":"Giudizi!A27","v":0},{"$f":"Giudizi!K27","v":""},{"$f":"ROUND(Giudizi!U27*2,0)/2","v":0},{"$f":"Giudizi!L27","v":""}]
[{"$f":"Giudizi!A28","v":0},{"$f":"Giudizi!K28","v":""},{"$f":"ROUND(Giudizi!U28*2,0)/2","v":0},{"$f":"Giudizi!L28","v":""}]
[{"$f":"Giudizi!A29","v":0},{"$f":"Giudizi!K29","v":""},{"$f":"ROUND(Giudizi!U29*2,0)/2","v":0},{"$f":"Giudizi!L29","v":""}]
[{"$f":"Giudizi!A30","v":0},{"$f":"Giudizi!K30","v":""},{"$f":"ROUND(Giudizi!U30*2,0)/2","v":0},{"$f":"Giudizi!L30","v":""}]
[{"$f":"Giudizi!A31","v":0},{"$f":"Giudizi!K31","v":""},{"$f":"ROUND(Giudizi!U31*2,0)/2","v":0},{"$f":"Giudizi!L31","v":""}]
[{"$f":"Giudizi!A32","v":0},{"$f":"Giudizi!K32","v":""},{"$f":"ROUND(Giudizi!U32*2,0)/2","v":0},{"$f":"Giudizi!L32","v":""}]
[{"$f":"Giudizi!A33","v":0},{"$f":"Giudizi!K33","v":""},{"$f":"ROUND(Giudizi!U33*2,0)/2","v":0},{"$f":"Giudizi!L33","v":""}]
[{"$f":"Giudizi!A34","v":0},{"$f":"Giudizi!K34","v":""},{"$f":"ROUND(Giudizi!U34*2,0)/2","v":0},{"$f":"Giudizi!L34","v":""}]
[{"$f":"Giudizi!A35","v":0},{"$f":"Giudizi!K35","v":""},{"$f":"ROUND(Giudizi!U35*2,0)/2","v":0},{"$f":"Giudizi!L35","v":""}]
[{"$f":"Giudizi!A36","v":0},{"$f":"Giudizi!K36","v":""},{"$f":"ROUND(Giudizi!U36*2,0)/2","v":0},{"$f":"Giudizi!L36","v":""}]
[{"$f":"Giudizi!A37","v":0},{"$f":"Giudizi!K37","v":""},{"$f":"ROUND(Giudizi!U37*2,0)/2","v":0},{"$f":"Giudizi!L37","v":""}]
[{"$f":"Giudizi!A38","v":0},{"$f":"Giudizi!K38","v":""},{"$f":"ROUND(Giudizi!U38*2,0)/2","v":0},{"$f":"Giudizi!L38","v":""}]
[{"$f":"Giudizi!A39","v":0},{"$f":"Giudizi!K39","v":""},{"$f":"ROUND(Giudizi!U39*2,0)/2","v":0},{"$f":"Giudizi!L39","v":""}]
[{"$f":"Giudizi!A40","v":0},{"$f":"Giudizi!K40","v":""},{"$f":"ROUND(Giudizi!U40*2,0)/2","v":0},{"$f":"Giudizi!L40","v":""}]
[{"$f":"Giudizi!A41","v":0},{"$f":"Giudizi!K41","v":""},{"$f":"ROUND(Giudizi!U41*2,0)/2","v":0},{"$f":"Giudizi!L41","v":""}]
[{"$f":"Giudizi!A42","v":0},{"$f":"Giudizi!K42","v":""},{"$f":"ROUND(Giudizi!U42*2,0)/2","v":0},{"$f":"Giudizi!L42","v":""}]
[{"$f":"Giudizi!A43","v":0},{"$f":"Giudizi!K43","v":""},{"$f":"ROUND(Giudizi!U43*2,0)/2","v":0},{"$f":"Giudizi!L43","v":""}]
[{"$f":"Giudizi!A44","v":0},{"$f":"Giudizi!K44","v":""},{"$f":"ROUND(Giudizi!U44*2,0)/2","v":0},{"$f":"Giudizi!L44","v":""}]
[{"$f":"Giudizi!A45","v":0},{"$f":"Giudizi!K45","v":""},{"$f":"ROUND(Giudizi!U45*2,0)/2","v":0},{"$f":"Giudizi!L45","v":""}]
[{"$f":"Giudizi!A46","v":0},{"$f":"Giudizi!K46","v":""},{"$f":"ROUND(Giudizi!U46*2,0)/2","v":0},{"$f":"Giudizi!L46","v":""}]
[{"$f":"Giudizi!A47","v":0},{"$f":"Giudizi!K47","v":""},{"$f":"ROUND(Giudizi!U47*2,0)/2","v":0},{"$f":"Giudizi!L47","v":""}]
[{"$f":"Giudizi!A48","v":0},{"$f":"Giudizi!K48","v":""},{"$f":"ROUND(Giudizi!U48*2,0)/2","v":0},{"$f":"Giudizi!L48","v":""}]
[{"$f":"Giudizi!A49","v":0},{"$f":"Giudizi!K49","v":""},{"$f":"ROUND(Giudizi!U49*2,0)/2","v":0},{"$f":"Giudizi!L49","v":""}]
[{"$f":"Giudizi!A50","v":0},{"$f":"Giudizi!K50","v":""},{"$f":"ROUND(Giudizi!U50*2,0)/2","v":0},{"$f":"Giudizi!L50","v":""}]
[{"$f":"Giudizi!A51","v":0},{"$f":"Giudizi!K51","v":""},{"$f":"ROUND(Giudizi!U51*2,0)/2","v":0},{"$f":"Giudizi!L51","v":""}]
[{"$f":"Giudizi!A52","v":0},{"$f":"Giudizi!K52","v":""},{"$f":"ROUND(Giudizi!U52*2,0)/2","v":0},{"$f":"Giudizi!L52","v":""}]
[{"$f":"Giudizi!A53","v":0},{"$f":"Giudizi!K53","v":""},{"$f":"ROUND(Giudizi!U53*2,0)/2","v":0},{"$f":"Giudizi!L53","v":""}]
[{"$f":"Giudizi!A54","v":0},{"$f":"Giudizi!K54","v":""},{"$f":"ROUND(Giudizi!U54*2,0)/2","v":0},{"$f":"Giudizi!L54","v":""}]
[{"$f":"Giudizi!A55","v":0},{"$f":"Giudizi!K55","v":""},{"$f":"ROUND(Giudizi!U55*2,0)/2","v":0},{"$f":"Giudizi!L55","v":0}]
[{"$f":"Giudizi!A56","v":0},{"$f":"Giudizi!K56","v":0},{"$f":"ROUND(Giudizi!U56*2,0)/2","v":0},{"$f":"Giudizi!L56","v":0}]
[{"$f":"Giudizi!A57","v":0},{"$f":"Giudizi!K57","v":0},{"$f":"ROUND(Giudizi!U57*2,0)/2","v":0},{"$f":"Giudizi!L57","v":0}]
[{"$f":"Giudizi!A58","v":0},{"$f":"Giudizi!K58","v":0},{"$f":"ROUND(Giudizi!U58*2,0)/2","v":0},{"$f":"Giudizi!L58","v":0}]
[{"$f":"Giudizi!A59","v":0},{"$f":"Giudizi!K59","v":0},{"$f":"ROUND(Giudizi!U59*2,0)/2","v":0},{"$f":"Giudizi!L59","v":0}]
[{"$f":"Giudizi!A60","v":0},{"$f":"Giudizi!K60","v":0},{"$f":"ROUND(Giudizi!U60*2,0)/2","v":0},{"$f":"Giudizi!L60","v":0}]
[{"$f":"Giudizi!A61","v":0},{"$f":"Giudizi!K61","v":0},{"$f":"ROUND(Giudizi!U61*2,0)/2","v":0},{"$f":"Giudizi!L61","v":0}]
[{"$f":"Giudizi!A62","v":0},{"$f":"Giudizi!K62","v":0},{"$f":"ROUND(Giudizi!U62*2,0)/2","v":0},{"$f":"Giudizi!L62","v":0}]
[{"$f":"Giudizi!A63","v":0},{"$f":"Giudizi!K63","v":0},{"$f":"ROUND(Giudizi!U63*2,0)/2","v":0},{"$f":"Giudizi!L63","v":0}]
[{"$f":"Giudizi!A64","v":0},{"$f":"Giudizi!K64","v":0},{"$f":"ROUND(Giudizi!U64*2,0)/2","v":0},{"$f":"Giudizi!L64","v":0}]
[{"$f":"Giudizi!A65","v":0},{"$f":"Giudizi!K65","v":0},{"$f":"ROUND(Giudizi!U65*2,0)/2","v":0},{"$f":"Giudizi!L65","v":0}]
[{"$f":"Giudizi!A66","v":0},{"$f":"Giudizi!K66","v":0},{"$f":"ROUND(Giudizi!U66*2,0)/2","v":0},{"$f":"Giudizi!L66","v":0}]
[{"$f":"Giudizi!A67","v":0},{"$f":"Giudizi!K67","v":0},{"$f":"ROUND(Giudizi!U67*2,0)/2","v":0},{"$f":"Giudizi!L67","v":0}]
[{"$f":"Giudizi!A68","v":0},{"$f":"Giudizi!K68","v":0},{"$f":"ROUND(Giudizi!U68*2,0)/2","v":0},{"$f":"Giudizi!L68","v":0}]
[{"$f":"Giudizi!A69","v":0},{"$f":"Giudizi!K69","v":0},{"$f":"ROUND(Giudizi!U69*2,0)/2","v":0},{"$f":"Giudizi!L69","v":0}]
[{"$f":"Giudizi!A70","v":0},{"$f":"Giudizi!K70","v":0},{"$f":"ROUND(Giudizi!U70*2,0)/2","v":0},{"$f":"Giudizi!L70","v":0}]
[{"$f":"Giudizi!A71","v":0},{"$f":"Giudizi!K71","v":0},{"$f":"ROUND(Giudizi!U71*2,0)/2","v":0},{"$f":"Giudizi!L71","v":0}]
[{"$f":"Giudizi!A72","v":0},{"$f":"Giudizi!K72","v":0},{"$f":"ROUND(Giudizi!U72*2,0)/2","v":0},{"$f":"Giudizi!L72","v":0}]
[{"$f":"Giudizi!A73","v":0},{"$f":"Giudizi!K73","v":0},{"$f":"ROUND(Giudizi!U73*2,0)/2","v":0},{"$f":"Giudizi!L73","v":0}]
[{"$f":"Giudizi!A74","v":0},{"$f":"Giudizi!K74","v":0},{"$f":"ROUND(Giudizi!U74*2,0)/2","v":0},{"$f":"Giudizi!L74","v":0}]
[{"$f":"Giudizi!A75","v":0},{"$f":"Giudizi!K75","v":0},{"$f":"ROUND(Giudizi!U75*2,0)/2","v":0},{"$f":"Giudizi!L75","v":0}]
[{"$f":"Giudizi!A76","v":0},{"$f":"Giudizi!K76","v":0},{"$f":"ROUND(Giudizi!U76*2,0)/2","v":0},{"$f":"Giudizi!L76","v":0}]
[{"$f":"Giudizi!A77","v":0},{"$f":"Giudizi!K77","v":0},{"$f":"ROUND(Giudizi!U77*2,0)/2","v":0},{"$f":"Giudizi!L77","v":0}]
[{"$f":"Giudizi!A78","v":0},{"$f":"Giudizi!K78","v":0},{"$f":"ROUND(Giudizi!U78*2,0)/2","v":0},{"$f":"Giudizi!L78","v":0}]
[{"$f":"Giudizi!A79","v":0},{"$f":"Giudizi!K79","v":0},{"$f":"ROUND(Giudizi!U79*2,0)/2","v":0},{"$f":"Giudizi!L79","v":0}]
[{"$f":"Giudizi!A80","v":0},{"$f":"Giudizi!K80","v":0},{"$f":"ROUND(Giudizi!U80*2,0)/2","v":0},{"$f":"Giudizi!L80","v":0}]
[{"$f":"Giudizi!A81","v":0},{"$f":"Giudizi!K81","v":0},{"$f":"ROUND(Giudizi!U81*2,0)/2","v":0},{"$f":"Giudizi!L81","v":0}]
[{"$f":"Giudizi!A82","v":0},{"$f":"Giudizi!K82","v":0},{"$f":"ROUND(Giudizi!U82*2,0)/2","v":0},{"$f":"Giudizi!L82","v":0}]
[{"$f":"Giudizi!A83","v":0},{"$f":"Giudizi!K83","v":0},{"$f":"ROUND(Giudizi!U83*2,0)/2","v":0},{"$f":"Giudizi!L83","v":0}]
[{"$f":"Giudizi!A84","v":0},{"$f":"Giudizi!K84","v":0},{"$f":"ROUND(Giudizi!U84*2,0)/2","v":0},{"$f":"Giudizi!L84","v":0}]
[{"$f":"Giudizi!A85","v":0},{"$f":"Giudizi!K85","v":0},{"$f":"ROUND(Giudizi!U85*2,0)/2","v":0},{"$f":"Giudizi!L85","v":0}]
[{"$f":"Giudizi!A86","v":0},{"$f":"Giudizi!K86","v":0},{"$f":"ROUND(Giudizi!U86*2,0)/2","v":0},{"$f":"Giudizi!L86","v":0}]
[{"$f":"Giudizi!A87","v":0},{"$f":"Giudizi!K87","v":0},{"$f":"ROUND(Giudizi!U87*2,0)/2","v":0},{"$f":"Giudizi!L87","v":0}]
[{"$f":"Giudizi!A88","v":0},{"$f":"Giudizi!K88","v":0},{"$f":"ROUND(Giudizi!U88*2,0)/2","v":0},{"$f":"Giudizi!L88","v":0}]
[{"$f":"Giudizi!A89","v":0},{"$f":"Giudizi!K89","v":0},{"$f":"ROUND(Giudizi!U89*2,0)/2","v":0},{"$f":"Giudizi!L89","v":0}]
[{"$f":"Giudizi!A90","v":0},{"$f":"Giudizi!K90","v":0},{"$f":"ROUND(Giudizi!U90*2,0)/2","v":0},{"$f":"Giudizi!L90","v":0}]
[{"$f":"Giudizi!A91","v":0},{"$f":"Giudizi!K91","v":0},{"$f":"ROUND(Giudizi!U91*2,0)/2","v":0},{"$f":"Giudizi!L91","v":0}]

{"sheet":"Word","index":4,"n_rows":61,"n_cols":3,"rows_kept":61,"cut":false,"hidden":false,"merged":[]}
["Alunno"]
[1,{"$f":"INDIRECT(ADDRESS(Word!A2+1,1,,,\"Risultati\"))","v":0},{"$f":"INDIRECT(ADDRESS(A2+1,3,,,\"Risultati\"))","v":0}]
[null,{"$f":"INDIRECT(ADDRESS(A2+1,4,,,\"Risultati\"))","v":""}]
[2,{"$f":"INDIRECT(ADDRESS(Word!A4+1,1,,,\"Risultati\"))","v":0},{"$f":"INDIRECT(ADDRESS(A4+1,3,,,\"Risultati\"))","v":0}]
[null,{"$f":"INDIRECT(ADDRESS(A4+1,4,,,\"Risultati\"))","v":""}]
[3,{"$f":"INDIRECT(ADDRESS(Word!A6+1,1,,,\"Risultati\"))","v":0},{"$f":"INDIRECT(ADDRESS(A6+1,3,,,\"Risultati\"))","v":0}]
[null,{"$f":"INDIRECT(ADDRESS(A6+1,4,,,\"Risultati\"))","v":""}]
[4,{"$f":"INDIRECT(ADDRESS(Word!A8+1,1,,,\"Risultati\"))","v":0},{"$f":"INDIRECT(ADDRESS(A8+1,3,,,\"Risultati\"))","v":0}]
[null,{"$f":"INDIRECT(ADDRESS(A8+1,4,,,\"Risultati\"))","v":""}]
[5,{"$f":"INDIRECT(ADDRESS(Word!A10+1,1,,,\"Risultati\"))","v":0},{"$f":"INDIRECT(ADDRESS(A10+1,3,,,\"Risultati\"))","v":0}]
[null,{"$f":"INDIRECT(ADDRESS(A10+1,4,,,\"Risultati\"))","v":""}]
[6,{"$f":"INDIRECT(ADDRESS(Word!A12+1,1,,,\"Risultati\"))","v":0},{"$f":"INDIRECT(ADDRESS(A12+1,3,,,\"Risultati\"))","v":0}]
[null,{"$f":"INDIRECT(ADDRESS(A12+1,4,,,\"Risultati\"))","v":""}]
[7,{"$f":"INDIRECT(ADDRESS(Word!A14+1,1,,,\"Risultati\"))","v":0},{"$f":"INDIRECT(ADDRESS(A14+1,3,,,\"Risultati\"))","v":0}]
[null,{"$f":"INDIRECT(ADDRESS(A14+1,4,,,\"Risultati\"))","v":""}]
[8,{"$f":"INDIRECT(ADDRESS(Word!A16+1,1,,,\"Risultati\"))","v":0},{"$f":"INDIRECT(ADDRESS(A16+1,3,,,\"Risultati\"))","v":0}]
[null,{"$f":"INDIRECT(ADDRESS(A16+1,4,,,\"Risultati\"))","v":""}]
[9,{"$f":"INDIRECT(ADDRESS(Word!A18+1,1,,,\"Risultati\"))","v":0},{"$f":"INDIRECT(ADDRESS(A18+1,3,,,\"Risultati\"))","v":0}]
[null,{"$f":"INDIRECT(ADDRESS(A18+1,4,,,\"Risultati\"))","v":""}]
[10,{"$f":"INDIRECT(ADDRESS(Word!A20+1,1,,,\"Risultati\"))","v":0},{"$f":"INDIRECT(ADDRESS(A20+1,3,,,\"Risultati\"))","v":0}]
[null,{"$f":"INDIRECT(ADDRESS(A20+1,4,,,\"Risultati\"))","v":""}]
[11,{"$f":"INDIRECT(ADDRESS(Word!A22+1,1,,,\"Risultati\"))","v":0},{"$f":"INDIRECT(ADDRESS(A22+1,3,,,\"Risultati\"))","v":0}]
[null,{"$f":"INDIRECT(ADDRESS(A22+1,4,,,\"Risultati\"))","v":""}]
[12,{"$f":"INDIRECT(ADDRESS(Word!A24+1,1,,,\"Risultati\"))","v":0},{"$f":"INDIRECT(ADDRESS(A24+1,3,,,\"Risultati\"))","v":0}]
[null,{"$f":"INDIRECT(ADDRESS(A24+1,4,,,\"Risultati\"))","v":""}]
[13,{"$f":"INDIRECT(ADDRESS(Word!A26+1,1,,,\"Risultati\"))","v":0},{"$f":"INDIRECT(ADDRESS(A26+1,3,,,\"Risultati\"))","v":0}]
[null,{"$f":"INDIRECT(ADDRESS(A26+1,4,,,\"Risultati\"))","v":""}]
[14,{"$f":"INDIRECT(ADDRESS(Word!A28+1,1,,,\"Risultati\"))","v":0},{"$f":"INDIRECT(ADDRESS(A28+1,3,,,\"Risultati\"))","v":0}]
[null,{"$f":"INDIRECT(ADDRESS(A28+1,4,,,\"Risultati\"))","v":""}]
[15,{"$f":"INDIRECT(ADDRESS(Word!A30+1,1,,,\"Risultati\"))","v":0},{"$f":"INDIRECT(ADDRESS(A30+1,3,,,\"Risultati\"))","v":0}]
[null,{"$f":"INDIRECT(ADDRESS(A30+1,4,,,\"Risultati\"))","v":""}]
[16,{"$f":"INDIRECT(ADDRESS(Word!A32+1,1,,,\"Risultati\"))","v":0},{"$f":"INDIRECT(ADDRESS(A32+1,3,,,\"Risultati\"))","v":0}]
[null,{"$f":"INDIRECT(ADDRESS(A32+1,4,,,\"Risultati\"))","v":""}]
[17,{"$f":"INDIRECT(ADDRESS(Word!A34+1,1,,,\"Risultati\"))","v":0},{"$f":"INDIRECT(ADDRESS(A34+1,3,,,\"Risultati\"))","v":0}]
[null,{"$f":"INDIRECT(ADDRESS(A34+1,4,,,\"Risultati\"))","v":""}]
[18,{"$f":"INDIRECT(ADDRESS(Word!A36+1,1,,,\"Risultati\"))","v":0},{"$f":"INDIRECT(ADDRESS(A36+1,3,,,\"Risultati\"))","v":0}]
[null,{"$f":"INDIRECT(ADDRESS(A36+1,4,,,\"Risultati\"))","v":""}]
[19,{"$f":"INDIRECT(ADDRESS(Word!A38+1,1,,,\"Risultati\"))","v":0},{"$f":"INDIRECT(ADDRESS(A38+1,3,,,\"Risultati\"))","v":0}]
[null,{"$f":"INDIRECT(ADDRESS(A38+1,4,,,\"Risultati\"))","v":""}]
[20,{"$f":"INDIRECT(ADDRESS(Word!A40+1,1,,,\"Risultati\"))","v":0},{"$f":"INDIRECT(ADDRESS(A40+1,3,,,\"Risultati\"))","v":0}]
[null,{"$f":"INDIRECT(ADDRESS(A40+1,4,,,\"Risultati\"))","v":""}]
[21,{"$f":"INDIRECT(ADDRESS(Word!A42+1,1,,,\"Risultati\"))","v":0},{"$f":"INDIRECT(ADDRESS(A42+1,3,,,\"Risultati\"))","v":0}]
[null,{"$f":"INDIRECT(ADDRESS(A42+1,4,,,\"Risultati\"))","v":""}]
[22,{"$f":"INDIRECT(ADDRESS(Word!A44+1,1,,,\"Risultati\"))","v":0},{"$f":"INDIRECT(ADDRESS(A44+1,3,,,\"Risultati\"))","v":0}]
[null,{"$f":"INDIRECT(ADDRESS(A44+1,4,,,\"Risultati\"))","v":""}]
[23,{"$f":"INDIRECT(ADDRESS(Word!A46+1,1,,,\"Risultati\"))","v":0},{"$f":"INDIRECT(ADDRESS(A46+1,3,,,\"Risultati\"))","v":0}]
[null,{"$f":"INDIRECT(ADDRESS(A46+1,4,,,\"Risultati\"))","v":""}]
[24,{"$f":"INDIRECT(ADDRESS(Word!A48+1,1,,,\"Risultati\"))","v":0},{"$f":"INDIRECT(ADDRESS(A48+1,3,,,\"Risultati\"))","v":0}]
[null,{"$f":"INDIRECT(ADDRESS(A48+1,4,,,\"Risultati\"))","v":""}]
[25,{"$f":"INDIRECT(ADDRESS(Word!A50+1,1,,,\"Risultati\"))","v":0},{"$f":"INDIRECT(ADDRESS(A50+1,3,,,\"Risultati\"))","v":0}]
[null,{"$f":"INDIRECT(ADDRESS(A50+1,4,,,\"Risultati\"))","v":""}]
[26,{"$f":"INDIRECT(ADDRESS(Word!A52+1,1,,,\"Risultati\"))","v":0},{"$f":"INDIRECT(ADDRESS(A52+1,3,,,\"Risultati\"))","v":0}]
[null,{"$f":"INDIRECT(ADDRESS(A52+1,4,,,\"Risultati\"))","v":""}]
[27,{"$f":"INDIRECT(ADDRESS(Word!A54+1,1,,,\"Risultati\"))","v":0},{"$f":"INDIRECT(ADDRESS(A54+1,3,,,\"Risultati\"))","v":0}]
[null,{"$f":"INDIRECT(ADDRESS(A54+1,4,,,\"Risultati\"))","v":""}]
[28,{"$f":"INDIRECT(ADDRESS(Word!A56+1,1,,,\"Risultati\"))","v":0},{"$f":"INDIRECT(ADDRESS(A56+1,3,,,\"Risultati\"))","v":0}]
[null,{"$f":"INDIRECT(ADDRESS(A56+1,4,,,\"Risultati\"))","v":""}]
[29,{"$f":"INDIRECT(ADDRESS(Word!A58+1,1,,,\"Risultati\"))","v":0},{"$f":"INDIRECT(ADDRESS(A58+1,3,,,\"Risultati\"))","v":0}]
[null,{"$f":"INDIRECT(ADDRESS(A58+1,4,,,\"Risultati\"))","v":""}]
[30,{"$f":"INDIRECT(ADDRESS(Word!A60+1,1,,,\"Risultati\"))","v":0},{"$f":"INDIRECT(ADDRESS(A60+1,3,,,\"Risultati\"))","v":0}]
[null,{"$f":"INDIRECT(ADDRESS(A60+1,4,,,\"Risultati\"))","v":""}]

{"sheet":"Voto","index":5,"n_rows":13,"n_cols":2,"rows_kept":13,"cut":false,"hidden":true,"merged":[]}
[{"$f":"SUM(Indicatori!B2:B5)","v":20},{"$f":"Griglia!F1","v":4}]
[{"$f":"A1*2","v":40},{"$f":"Griglia!E1","v":6}]
[{"$f":"3*A1","v":60},{"$f":"Griglia!D1","v":7}]
[{"$f":"4*A1","v":80},{"$f":"Griglia!C1","v":9}]
[{"$f":"5*A1","v":100},{"$f":"Griglia!B1","v":10}]
[]
[{"$f":"LINEST(B1:B5,A1:A5,,)","v":7.4999999999999983E-2},2.7000000000000011]
[]
[]
[1]
[2]
[3]
[4]

{"sheet":"Giudizi","index":6,"n_rows":55,"n_cols":21,"rows_kept":55,"cut":false,"hidden":true,"merged":[]}
["Cognome","Voto",{"$f":"Griglia!A2","v":"Conoscenza dei contenuti"},{"$f":"Griglia!A3","v":"Risoluzione dei problemi"},{"$f":"Griglia!A4","v":"Capacità di calcolo"},{"$f":"Griglia!A5","v":"Descrizione del procedimento"},{"$f":"C1","v":"Conoscenza dei contenuti"},{"$f":"D1","v":"Risoluzione dei problemi"},"Capacità di calcolo","Descrizione del procedimento","Punteggio","Giudizio","P1","P2","P3","P4","V1","V2","V3","V4","Voto"]
[null,null,null,null,null,null,null,null,null,null,{"$f":"IF(A2<>\"\",C2*Indicatori!$B$2+Giudizi!D2*Indicatori!$B$3+Giudizi!E2*Indicatori!$B$4+Giudizi!F2*Indicatori!$B$5,\"\")","v":""},{"$f":"CONCATENATE(G2,H2,I2,J2)","v":""},{"$f":"C2*Indicatori!$B$2","v":0},{"$f":"D2*Indicatori!$B$3","v":0},{"$f":"E2*Indicatori!$B$4","v":0},{"$f":"F2*Indicatori!$B$5","v":0},{"$f":"INDIRECT(ADDRESS(1,7-C2,,,\"Griglia\"))","v":0},{"$f":"INDIRECT(ADDRESS(1,7-D2,,,\"Griglia\"))","v":0},{"$f":"INDIRECT(ADDRESS(1,7-E2,,,\"Griglia\"))","v":0},{"$f":"INDIRECT(ADDRESS(1,7-F2,,,\"Griglia\"))","v":0},{"$f":"(Q2*Indicatori!$B$2+Giudizi!R2*Indicatori!$B$3+Giudizi!S2*Indicatori!$B$4+Giudizi!T2*Indicatori!$B$5)/SUM(Indicatori!$B$2:$B$5)","v":0}]
[null,null,null,null,null,null,null,null,null,null,{"$f":"IF(A3<>\"\",C3*Indicatori!$B$2+Giudizi!D3*Indicatori!$B$3+Giudizi!E3*Indicatori!$B$4+Giudizi!F3*Indicatori!$B$5,\"\")","v":""},{"$f":"CONCATENATE(G3,H3,I3,J3)","v":""},{"$f":"C3*Indicatori!$B$2","v":0},{"$f":"D3*Indicatori!$B$3","v":0},{"$f":"E3*Indicatori!$B$4","v":0},{"$f":"F3*Indicatori!$B$5","v":0},{"$f":"INDIRECT(ADDRESS(1,7-C3,,,\"Griglia\"))","v":0},{"$f":"INDIRECT(ADDRESS(1,7-D3,,,\"Griglia\"))","v":0},{"$f":"INDIRECT(ADDRESS(1,7-E3,,,\"Griglia\"))","v":0},{"$f":"INDIRECT(ADDRESS(1,7-F3,,,\"Griglia\"))","v":0},{"$f":"(Q3*Indicatori!$B$2+Giudizi!R3*Indicatori!$B$3+Giudizi!S3*Indicatori!$B$4+Giudizi!T3*Indicatori!$B$5)/SUM(Indicatori!$B$2:$B$5)","v":0}]
[null,null,null,null,null,null,null,null,null,null,{"$f":"IF(A4<>\"\",C4*Indicatori!$B$2+Giudizi!D4*Indicatori!$B$3+Giudizi!E4*Indicatori!$B$4+Giudizi!F4*Indicatori!$B$5,\"\")","v":""},"",{"$f":"C4*Indicatori!$B$2","v":0},{"$f":"D4*Indicatori!$B$3","v":0},{"$f":"E4*Indicatori!$B$4","v":0},{"$f":"F4*Indicatori!$B$5","v":0},{"$f":"INDIRECT(ADDRESS(1,7-C4,,,\"Griglia\"))","v":0},{"$f":"INDIRECT(ADDRESS(1,7-D4,,,\"Griglia\"))","v":0},{"$f":"INDIRECT(ADDRESS(1,7-E4,,,\"Griglia\"))","v":0},{"$f":"INDIRECT(ADDRESS(1,7-F4,,,\"Griglia\"))","v":0},{"$f":"(Q4*Indicatori!$B$2+Giudizi!R4*Indicatori!$B$3+Giudizi!S4*Indicatori!$B$4+Giudizi!T4*Indicatori!$B$5)/SUM(Indicatori!$B$2:$B$5)","v":0}]
[null,null,null,null,null,null,null,null,null,null,{"$f":"IF(A5<>\"\",C5*Indicatori!$B$2+Giudizi!D5*Indicatori!$B$3+Giudizi!E5*Indicatori!$B$4+Giudizi!F5*Indicatori!$B$5,\"\")","v":""},"",{"$f":"C5*Indicatori!$B$2","v":0},{"$f":"D5*Indicatori!$B$3","v":0},{"$f":"E5*Indicatori!$B$4","v":0},{"$f":"F5*Indicatori!$B$5","v":0},{"$f":"INDIRECT(ADDRESS(1,7-C5,,,\"Griglia\"))","v":0},{"$f":"INDIRECT(ADDRESS(1,7-D5,,,\"Griglia\"))","v":0},{"$f":"INDIRECT(ADDRESS(1,7-E5,,,\"Griglia\"))","v":0},{"$f":"INDIRECT(ADDRESS(1,7-F5,,,\"Griglia\"))","v":0},{"$f":"(Q5*Indicatori!$B$2+Giudizi!R5*Indicatori!$B$3+Giudizi!S5*Indicatori!$B$4+Giudizi!T5*Indicatori!$B$5)/SUM(Indicatori!$B$2:$B$5)","v":0}]
[null,null,null,null,null,null,null,null,null,null,{"$f":"IF(A6<>\"\",C6*Indicatori!$B$2+Giudizi!D6*Indicatori!$B$3+Giudizi!E6*Indicatori!$B$4+Giudizi!F6*Indicatori!$B$5,\"\")","v":""},"",{"$f":"C6*Indicatori!$B$2","v":0},{"$f":"D6*Indicatori!$B$3","v":0},{"$f":"E6*Indicatori!$B$4","v":0},{"$f":"F6*Indicatori!$B$5","v":0},{"$f":"INDIRECT(ADDRESS(1,7-C6,,,\"Griglia\"))","v":0},{"$f":"INDIRECT(ADDRESS(1,7-D6,,,\"Griglia\"))","v":0},{"$f":"INDIRECT(ADDRESS(1,7-E6,,,\"Griglia\"))","v":0},{"$f":"INDIRECT(ADDRESS(1,7-F6,,,\"Griglia\"))","v":0},{"$f":"(Q6*Indicatori!$B$2+Giudizi!R6*Indicatori!$B$3+Giudizi!S6*Indicatori!$B$4+Giudizi!T6*Indicatori!$B$5)/SUM(Indicatori!$B$2:$B$5)","v":0}]
[null,null,null,null,null,null,null,null,null,null,{"$f":"IF(A7<>\"\",C7*Indicatori!$B$2+Giudizi!D7*Indicatori!$B$3+Giudizi!E7*Indicatori!$B$4+Giudizi!F7*Indicatori!$B$5,\"\")","v":""},"",{"$f":"C7*Indicatori!$B$2","v":0},{"$f":"D7*Indicatori!$B$3","v":0},{"$f":"E7*Indicatori!$B$4","v":0},{"$f":"F7*Indicatori!$B$5","v":0},{"$f":"INDIRECT(ADDRESS(1,7-C7,,,\"Griglia\"))","v":0},{"$f":"INDIRECT(ADDRESS(1,7-D7,,,\"Griglia\"))","v":0},{"$f":"INDIRECT(ADDRESS(1,7-E7,,,\"Griglia\"))","v":0},{"$f":"INDIRECT(ADDRESS(1,7-F7,,,\"Griglia\"))","v":0},{"$f":"(Q7*Indicatori!$B$2+Giudizi!R7*Indicatori!$B$3+Giudizi!S7*Indicatori!$B$4+Giudizi!T7*Indicatori!$B$5)/SUM(Indicatori!$B$2:$B$5)","v":0}]
[null,null,null,null,null,null,null,null,null,null,{"$f":"IF(A8<>\"\",C8*Indicatori!$B$2+Giudizi!D8*Indicatori!$B$3+Giudizi!E8*Indicatori!$B$4+Giudizi!F8*Indicatori!$B$5,\"\")","v":""},"",{"$f":"C8*Indicatori!$B$2","v":0},{"$f":"D8*Indicatori!$B$3","v":0},{"$f":"E8*Indicatori!$B$4","v":0},{"$f":"F8*Indicatori!$B$5","v":0},{"$f":"INDIRECT(ADDRESS(1,7-C8,,,\"Griglia\"))","v":0},{"$f":"INDIRECT(ADDRESS(1,7-D8,,,\"Griglia\"))","v":0},{"$f":"INDIRECT(ADDRESS(1,7-E8,,,\"Griglia\"))","v":0},{"$f":"INDIRECT(ADDRESS(1,7-F8,,,\"Griglia\"))","v":0},{"$f":"(Q8*Indicatori!$B$2+Giudizi!R8*Indicatori!$B$3+Giudizi!S8*Indicatori!$B$4+Giudizi!T8*Indicatori!$B$5)/SUM(Indicatori!$B$2:$B$5)","v":0}]
[null,null,null,null,null,null,null,null,null,null,{"$f":"IF(A9<>\"\",C9*Indicatori!$B$2+Giudizi!D9*Indicatori!$B$3+Giudizi!E9*Indicatori!$B$4+Giudizi!F9*Indicatori!$B$5,\"\")","v":""},"",{"$f":"C9*Indicatori!$B$2","v":0},{"$f":"D9*Indicatori!$B$3","v":0},{"$f":"E9*Indicatori!$B$4","v":0},{"$f":"F9*Indicatori!$B$5","v":0},{"$f":"INDIRECT(ADDRESS(1,7-C9,,,\"Griglia\"))","v":0},{"$f":"INDIRECT(ADDRESS(1,7-D9,,,\"Griglia\"))","v":0},{"$f":"INDIRECT(ADDRESS(1,7-E9,,,\"Griglia\"))","v":0},{"$f":"INDIRECT(ADDRESS(1,7-F9,,,\"Griglia\"))","v":0},{"$f":"(Q9*Indicatori!$B$2+Giudizi!R9*Indicatori!$B$3+Giudizi!S9*Indicatori!$B$4+Giudizi!T9*Indicatori!$B$5)/SUM(Indicatori!$B$2:$B$5)","v":0}]
[null,null,null,null,null,null,null,null,null,null,{"$f":"IF(A10<>\"\",C10*Indicatori!$B$2+Giudizi!D10*Indicatori!$B$3+Giudizi!E10*Indicatori!$B$4+Giudizi!F10*Indicatori!$B$5,\"\")","v":""},"",{"$f":"C10*Indicatori!$B$2","v":0},{"$f":"D10*Indicatori!$B$3","v":0},{"$f":"E10*Indicatori!$B$4","v":0},{"$f":"F10*Indicatori!$B$5","v":0},{"$f":"INDIRECT(ADDRESS(1,7-C10,,,\"Griglia\"))","v":0},{"$f":"INDIRECT(ADDRESS(1,7-D10,,,\"Griglia\"))","v":0},{"$f":"INDIRECT(ADDRESS(1,7-E10,,,\"Griglia\"))","v":0},{"$f":"INDIRECT(ADDRESS(1,7-F10,,,\"Griglia\"))","v":0},{"$f":"(Q10*Indicatori!$B$2+Giudizi!R10*Indicatori!$B$3+Giudizi!S10*Indicatori!$B$4+Giudizi!T10*Indicatori!$B$5)/SUM(Indicatori!$B$2:$B$5)","v":0}]
[null,null,null,null,null,null,null,null,null,null,{"$f":"IF(A11<>\"\",C11*Indicatori!$B$2+Giudizi!D11*Indicatori!$B$3+Giudizi!E11*Indicatori!$B$4+Giudizi!F11*Indicatori!$B$5,\"\")","v":""},"",{"$f":"C11*Indicatori!$B$2","v":0},{"$f":"D11*Indicatori!$B$3","v":0},{"$f":"E11*Indicatori!$B$4","v":0},{"$f":"F11*Indicatori!$B$5","v":0},{"$f":"INDIRECT(ADDRESS(1,7-C11,,,\"Griglia\"))","v":0},{"$f":"INDIRECT(ADDRESS(1,7-D11,,,\"Griglia\"))","v":0},{"$f":"INDIRECT(ADDRESS(1,7-E11,,,\"Griglia\"))","v":0},{"$f":"INDIRECT(ADDRESS(1,7-F11,,,\"Griglia\"))","v":0},{"$f":"(Q11*Indicatori!$B$2+Giudizi!R11*Indicatori!$B$3+Giudizi!S11*Indicatori!$B$4+Giudizi!T11*Indicatori!$B$5)/SUM(Indicatori!$B$2:$B$5)","v":0}]
[null,null,null,null,null,null,null,null,null,null,{"$f":"IF(A12<>\"\",C12*Indicatori!$B$2+Giudizi!D12*Indicatori!$B$3+Giudizi!E12*Indicatori!$B$4+Giudizi!F12*Indicatori!$B$5,\"\")","v":""},"",{"$f":"C12*Indicatori!$B$2","v":0},{"$f":"D12*Indicatori!$B$3","v":0},{"$f":"E12*Indicatori!$B$4","v":0},{"$f":"F12*Indicatori!$B$5","v":0},{"$f":"INDIRECT(ADDRESS(1,7-C12,,,\"Griglia\"))","v":0},{"$f":"INDIRECT(ADDRESS(1,7-D12,,,\"Griglia\"))","v":0},{"$f":"INDIRECT(ADDRESS(1,7-E12,,,\"Griglia\"))","v":0},{"$f":"INDIRECT(ADDRESS(1,7-F12,,,\"Griglia\"))","v":0},{"$f":"(Q12*Indicatori!$B$2+Giudizi!R12*Indicatori!$B$3+Giudizi!S12*Indicatori!$B$4+Giudizi!T12*Indicatori!$B$5)/SUM(Indicatori!$B$2:$B$5)","v":0}]
[null,null,null,null,null,null,null,null,null,null,{"$f":"IF(A13<>\"\",C13*Indicatori!$B$2+Giudizi!D13*Indicatori!$B$3+Giudizi!E13*Indicatori!$B$4+Giudizi!F13*Indicatori!$B$5,\"\")","v":""},"",{"$f":"C13*Indicatori!$B$2","v":0},{"$f":"D13*Indicatori!$B$3","v":0},{"$f":"E13*Indicatori!$B$4","v":0},{"$f":"F13*Indicatori!$B$5","v":0},{"$f":"INDIRECT(ADDRESS(1,7-C13,,,\"Griglia\"))","v":0},{"$f":"INDIRECT(ADDRESS(1,7-D13,,,\"Griglia\"))","v":0},{"$f":"INDIRECT(ADDRESS(1,7-E13,,,\"Griglia\"))","v":0},{"$f":"INDIRECT(ADDRESS(1,7-F13,,,\"Griglia\"))","v":0},{"$f":"(Q13*Indicatori!$B$2+Giudizi!R13*Indicatori!$B$3+Giudizi!S13*Indicatori!$B$4+Giudizi!T13*Indicatori!$B$5)/SUM(Indicatori!$B$2:$B$5)","v":0}]
[null,null,null,null,null,null,null,null,null,null,{"$f":"IF(A14<>\"\",C14*Indicatori!$B$2+Giudizi!D14*Indicatori!$B$3+Giudizi!E14*Indicatori!$B$4+Giudizi!F14*Indicatori!$B$5,\"\")","v":""},"",{"$f":"C14*Indicatori!$B$2","v":0},{"$f":"D14*Indicatori!$B$3","v":0},{"$f":"E14*Indicatori!$B$4","v":0},{"$f":"F14*Indicatori!$B$5","v":0},{"$f":"INDIRECT(ADDRESS(1,7-C14,,,\"Griglia\"))","v":0},{"$f":"INDIRECT(ADDRESS(1,7-D14,,,\"Griglia\"))","v":0},{"$f":"INDIRECT(ADDRESS(1,7-E14,,,\"Griglia\"))","v":0},{"$f":"INDIRECT(ADDRESS(1,7-F14,,,\"Griglia\"))","v":0},{"$f":"(Q14*Indicatori!$B$2+Giudizi!R14*Indicatori!$B$3+Giudizi!S14*Indicatori!$B$4+Giudizi!T14*Indicatori!$B$5)/SUM(Indicatori!$B$2:$B$5)","v":0}]
[null,null,null,null,null,null,null,null,null,null,{"$f":"IF(A15<>\"\",C15*Indicatori!$B$2+Giudizi!D15*Indicatori!$B$3+Giudizi!E15*Indicatori!$B$4+Giudizi!F15*Indicatori!$B$5,\"\")","v":""},"",{"$f":"C15*Indicatori!$B$2","v":0},{"$f":"D15*Indicatori!$B$3","v":0},{"$f":"E15*Indicatori!$B$4","v":0},{"$f":"F15*Indicatori!$B$5","v":0},{"$f":"INDIRECT(ADDRESS(1,7-C15,,,\"Griglia\"))","v":0},{"$f":"INDIRECT(ADDRESS(1,7-D15,,,\"Griglia\"))","v":0},{"$f":"INDIRECT(ADDRESS(1,7-E15,,,\"Griglia\"))","v":0},{"$f":"INDIRECT(ADDRESS(1,7-F15,,,\"Griglia\"))","v":0},{"$f":"(Q15*Indicatori!$B$2+Giudizi!R15*Indicatori!$B$3+Giudizi!S15*Indicatori!$B$4+Giudizi!T15*Indicatori!$B$5)/SUM(Indicatori!$B$2:$B$5)","v":0}]
[null,null,null,null,null,null,null,null,null,null,{"$f":"IF(A16<>\"\",C16*Indicatori!$B$2+Giudizi!D16*Indicatori!$B$3+Giudizi!E16*Indicatori!$B$4+Giudizi!F16*Indicatori!$B$5,\"\")","v":""},"",{"$f":"C16*Indicatori!$B$2","v":0},{"$f":"D16*Indicatori!$B$3","v":0},{"$f":"E16*Indicatori!$B$4","v":0},{"$f":"F16*Indicatori!$B$5","v":0},{"$f":"INDIRECT(ADDRESS(1,7-C16,,,\"Griglia\"))","v":0},{"$f":"INDIRECT(ADDRESS(1,7-D16,,,\"Griglia\"))","v":0},{"$f":"INDIRECT(ADDRESS(1,7-E16,,,\"Griglia\"))","v":0},{"$f":"INDIRECT(ADDRESS(1,7-F16,,,\"Griglia\"))","v":0},{"$f":"(Q16*Indicatori!$B$2+Giudizi!R16*Indicatori!$B$3+Giudizi!S16*Indicatori!$B$4+Giudizi!T16*Indicatori!$B$5)/SUM(Indicatori!$B$2:$B$5)","v":0}]
[null,null,null,null,null,null,null,null,null,null,{"$f":"IF(A17<>\"\",C17*Indicatori!$B$2+Giudizi!D17*Indicatori!$B$3+Giudizi!E17*Indicatori!$B$4+Giudizi!F17*Indicatori!$B$5,\"\")","v":""},"",{"$f":"C17*Indicatori!$B$2","v":0},{"$f":"D17*Indicatori!$B$3","v":0},{"$f":"E17*Indicatori!$B$4","v":0},{"$f":"F17*Indicatori!$B$5","v":0},{"$f":"INDIRECT(ADDRESS(1,7-C17,,,\"Griglia\"))","v":0},{"$f":"INDIRECT(ADDRESS(1,7-D17,,,\"Griglia\"))","v":0},{"$f":"INDIRECT(ADDRESS(1,7-E17,,,\"Griglia\"))","v":0},{"$f":"INDIRECT(ADDRESS(1,7-F17,,,\"Griglia\"))","v":0},{"$f":"(Q17*Indicatori!$B$2+Giudizi!R17*Indicatori!$B$3+Giudizi!S17*Indicatori!$B$4+Giudizi!T17*Indicatori!$B$5)/SUM(Indicatori!$B$2:$B$5)","v":0}]
[null,null,null,null,null,null,null,null,null,null,{"$f":"IF(A18<>\"\",C18*Indicatori!$B$2+Giudizi!D18*Indicatori!$B$3+Giudizi!E18*Indicatori!$B$4+Giudizi!F18*Indicatori!$B$5,\"\")","v":""},"",{"$f":"C18*Indicatori!$B$2","v":0},{"$f":"D18*Indicatori!$B$3","v":0},{"$f":"E18*Indicatori!$B$4","v":0},{"$f":"F18*Indicatori!$B$5","v":0},{"$f":"INDIRECT(ADDRESS(1,7-C18,,,\"Griglia\"))","v":0},{"$f":"INDIRECT(ADDRESS(1,7-D18,,,\"Griglia\"))","v":0},{"$f":"INDIRECT(ADDRESS(1,7-E18,,,\"Griglia\"))","v":0},{"$f":"INDIRECT(ADDRESS(1,7-F18,,,\"Griglia\"))","v":0},{"$f":"(Q18*Indicatori!$B$2+Giudizi!R18*Indicatori!$B$3+Giudizi!S18*Indicatori!$B$4+Giudizi!T18*Indicatori!$B$5)/SUM(Indicatori!$B$2:$B$5)","v":0}]
[null,null,null,null,null,null,null,null,null,null,{"$f":"IF(A19<>\"\",C19*Indicatori!$B$2+Giudizi!D19*Indicatori!$B$3+Giudizi!E19*Indicatori!$B$4+Giudizi!F19*Indicatori!$B$5,\"\")","v":""},"",{"$f":"C19*Indicatori!$B$2","v":0},{"$f":"D19*Indicatori!$B$3","v":0},{"$f":"E19*Indicatori!$B$4","v":0},{"$f":"F19*Indicatori!$B$5","v":0},{"$f":"INDIRECT(ADDRESS(1,7-C19,,,\"Griglia\"))","v":0},{"$f":"INDIRECT(ADDRESS(1,7-D19,,,\"Griglia\"))","v":0},{"$f":"INDIRECT(ADDRESS(1,7-E19,,,\"Griglia\"))","v":0},{"$f":"INDIRECT(ADDRESS(1,7-F19,,,\"Griglia\"))","v":0},{"$f":"(Q19*Indicatori!$B$2+Giudizi!R19*Indicatori!$B$3+Giudizi!S19*Indicatori!$B$4+Giudizi!T19*Indicatori!$B$5)/SUM(Indicatori!$B$2:$B$5)","v":0}]
[null,null,null,null,null,null,null,null,null,null,{"$f":"IF(A20<>\"\",C20*Indicatori!$B$2+Giudizi!D20*Indicatori!$B$3+Giudizi!E20*Indicatori!$B$4+Giudizi!F20*Indicatori!$B$5,\"\")","v":""},"",{"$f":"C20*Indicatori!$B$2","v":0},{"$f":"D20*Indicatori!$B$3","v":0},{"$f":"E20*Indicatori!$B$4","v":0},{"$f":"F20*Indicatori!$B$5","v":0},{"$f":"INDIRECT(ADDRESS(1,7-C20,,,\"Griglia\"))","v":0},{"$f":"INDIRECT(ADDRESS(1,7-D20,,,\"Griglia\"))","v":0},{"$f":"INDIRECT(ADDRESS(1,7-E20,,,\"Griglia\"))","v":0},{"$f":"INDIRECT(ADDRESS(1,7-F20,,,\"Griglia\"))","v":0},{"$f":"(Q20*Indicatori!$B$2+Giudizi!R20*Indicatori!$B$3+Giudizi!S20*Indicatori!$B$4+Giudizi!T20*Indicatori!$B$5)/SUM(Indicatori!$B$2:$B$5)","v":0}]
[null,null,null,null,null,null,null,null,null,null,{"$f":"IF(A21<>\"\",C21*Indicatori!$B$2+Giudizi!D21*Indicatori!$B$3+Giudizi!E21*Indicatori!$B$4+Giudizi!F21*Indicatori!$B$5,\"\")","v":""},"",{"$f":"C21*Indicatori!$B$2","v":0},{"$f":"D21*Indicatori!$B$3","v":0},{"$f":"E21*Indicatori!$B$4","v":0},{"$f":"F21*Indicatori!$B$5","v":0},{"$f":"INDIRECT(ADDRESS(1,7-C21,,,\"Griglia\"))","v":0},{"$f":"INDIRECT(ADDRESS(1,7-D21,,,\"Griglia\"))","v":0},{"$f":"INDIRECT(ADDRESS(1,7-E21,,,\"Griglia\"))","v":0},{"$f":"INDIRECT(ADDRESS(1,7-F21,,,\"Griglia\"))","v":0},{"$f":"(Q21*Indicatori!$B$2+Giudizi!R21*Indicatori!$B$3+Giudizi!S21*Indicatori!$B$4+Giudizi!T21*Indicatori!$B$5)/SUM(Indicatori!$B$2:$B$5)","v":0}]
[null,null,null,null,null,null,null,null,null,null,{"$f":"IF(A22<>\"\",C22*Indicatori!$B$2+Giudizi!D22*Indicatori!$B$3+Giudizi!E22*Indicatori!$B$4+Giudizi!F22*Indicatori!$B$5,\"\")","v":""},"",{"$f":"C22*Indicatori!$B$2","v":0},{"$f":"D22*Indicatori!$B$3","v":0},{"$f":"E22*Indicatori!$B$4","v":0},{"$f":"F22*Indicatori!$B$5","v":0},{"$f":"INDIRECT(ADDRESS(1,7-C22,,,\"Griglia\"))","v":0},{"$f":"INDIRECT(ADDRESS(1,7-D22,,,\"Griglia\"))","v":0},{"$f":"INDIRECT(ADDRESS(1,7-E22,,,\"Griglia\"))","v":0},{"$f":"INDIRECT(ADDRESS(1,7-F22,,,\"Griglia\"))","v":0},{"$f":"(Q22*Indicatori!$B$2+Giudizi!R22*Indicatori!$B$3+Giudizi!S22*Indicatori!$B$4+Giudizi!T22*Indicatori!$B$5)/SUM(Indicatori!$B$2:$B$5)","v":0}]
[null,null,null,null,null,null,null,null,null,null,{"$f":"IF(A23<>\"\",C23*Indicatori!$B$2+Giudizi!D23*Indicatori!$B$3+Giudizi!E23*Indicatori!$B$4+Giudizi!F23*Indicatori!$B$5,\"\")","v":""},"",{"$f":"C23*Indicatori!$B$2","v":0},{"$f":"D23*Indicatori!$B$3","v":0},{"$f":"E23*Indicatori!$B$4","v":0},{"$f":"F23*Indicatori!$B$5","v":0},{"$f":"INDIRECT(ADDRESS(1,7-C23,,,\"Griglia\"))","v":0},{"$f":"INDIRECT(ADDRESS(1,7-D23,,,\"Griglia\"))","v":0},{"$f":"INDIRECT(ADDRESS(1,7-E23,,,\"Griglia\"))","v":0},{"$f":"INDIRECT(ADDRESS(1,7-F23,,,\"Griglia\"))","v":0},{"$f":"(Q23*Indicatori!$B$2+Giudizi!R23*Indicatori!$B$3+Giudizi!S23*Indicatori!$B$4+Giudizi!T23*Indicatori!$B$5)/SUM(Indicatori!$B$2:$B$5)","v":0}]
[null,null,null,null,null,null,null,null,null,null,{"$f":"IF(A24<>\"\",C24*Indicatori!$B$2+Giudizi!D24*Indicatori!$B$3+Giudizi!E24*Indicatori!$B$4+Giudizi!F24*Indicatori!$B$5,\"\")","v":""},"",{"$f":"C24*Indicatori!$B$2","v":0},{"$f":"D24*Indicatori!$B$3","v":0},{"$f":"E24*Indicatori!$B$4","v":0},{"$f":"F24*Indicatori!$B$5","v":0},{"$f":"INDIRECT(ADDRESS(1,7-C24,,,\"Griglia\"))","v":0},{"$f":"INDIRECT(ADDRESS(1,7-D24,,,\"Griglia\"))","v":0},{"$f":"INDIRECT(ADDRESS(1,7-E24,,,\"Griglia\"))","v":0},{"$f":"INDIRECT(ADDRESS(1,7-F24,,,\"Griglia\"))","v":0},{"$f":"(Q24*Indicatori!$B$2+Giudizi!R24*Indicatori!$B$3+Giudizi!S24*Indicatori!$B$4+Giudizi!T24*Indicatori!$B$5)/SUM(Indicatori!$B$2:$B$5)","v":0}]
[null,null,null,null,null,null,null,null,null,null,{"$f":"IF(A25<>\"\",C25*Indicatori!$B$2+Giudizi!D25*Indicatori!$B$3+Giudizi!E25*Indicatori!$B$4+Giudizi!F25*Indicatori!$B$5,\"\")","v":""},"",{"$f":"C25*Indicatori!$B$2","v":0},{"$f":"D25*Indicatori!$B$3","v":0},{"$f":"E25*Indicatori!$B$4","v":0},{"$f":"F25*Indicatori!$B$5","v":0},{"$f":"INDIRECT(ADDRESS(1,7-C25,,,\"Griglia\"))","v":0},{"$f":"INDIRECT(ADDRESS(1,7-D25,,,\"Griglia\"))","v":0},{"$f":"INDIRECT(ADDRESS(1,7-E25,,,\"Griglia\"))","v":0},{"$f":"INDIRECT(ADDRESS(1,7-F25,,,\"Griglia\"))","v":0},{"$f":"(Q25*Indicatori!$B$2+Giudizi!R25*Indicatori!$B$3+Giudizi!S25*Indicatori!$B$4+Giudizi!T25*Indicatori!$B$5)/SUM(Indicatori!$B$2:$B$5)","v":0}]
[null,null,null,null,null,null,null,null,null,null,{"$f":"IF(A26<>\"\",C26*Indicatori!$B$2+Giudizi!D26*Indicatori!$B$3+Giudizi!E26*Indicatori!$B$4+Giudizi!F26*Indicatori!$B$5,\"\")","v":""},"",{"$f":"C26*Indicatori!$B$2","v":0},{"$f":"D26*Indicatori!$B$3","v":0},{"$f":"E26*Indicatori!$B$4","v":0},{"$f":"F26*Indicatori!$B$5","v":0},{"$f":"INDIRECT(ADDRESS(1,7-C26,,,\"Griglia\"))","v":0},{"$f":"INDIRECT(ADDRESS(1,7-D26,,,\"Griglia\"))","v":0},{"$f":"INDIRECT(ADDRESS(1,7-E26,,,\"Griglia\"))","v":0},{"$f":"INDIRECT(ADDRESS(1,7-F26,,,\"Griglia\"))","v":0},{"$f":"(Q26*Indicatori!$B$2+Giudizi!R26*Indicatori!$B$3+Giudizi!S26*Indicatori!$B$4+Giudizi!T26*Indicatori!$B$5)/SUM(Indicatori!$B$2:$B$5)","v":0}]
[null,null,null,null,null,null,null,null,null,null,{"$f":"IF(A27<>\"\",C27*Indicatori!$B$2+Giudizi!D27*Indicatori!$B$3+Giudizi!E27*Indicatori!$B$4+Giudizi!F27*Indicatori!$B$5,\"\")","v":""},"",{"$f":"C27*Indicatori!$B$2","v":0},{"$f":"D27*Indicatori!$B$3","v":0},{"$f":"E27*Indicatori!$B$4","v":0},{"$f":"F27*Indicatori!$B$5","v":0},{"$f":"INDIRECT(ADDRESS(1,7-C27,,,\"Griglia\"))","v":0},{"$f":"INDIRECT(ADDRESS(1,7-D27,,,\"Griglia\"))","v":0},{"$f":"INDIRECT(ADDRESS(1,7-E27,,,\"Griglia\"))","v":0},{"$f":"INDIRECT(ADDRESS(1,7-F27,,,\"Griglia\"))","v":0},{"$f":"(Q27*Indicatori!$B$2+Giudizi!R27*Indicatori!$B$3+Giudizi!S27*Indicatori!$B$4+Giudizi!T27*Indicatori!$B$5)/SUM(Indicatori!$B$2:$B$5)","v":0}]
[null,null,null,null,null,null,null,null,null,null,{"$f":"IF(A28<>\"\",C28*Indicatori!$B$2+Giudizi!D28*Indicatori!$B$3+Giudizi!E28*Indicatori!$B$4+Giudizi!F28*Indicatori!$B$5,\"\")","v":""},"",{"$f":"C28*Indicatori!$B$2","v":0},{"$f":"D28*Indicatori!$B$3","v":0},{"$f":"E28*Indicatori!$B$4","v":0},{"$f":"F28*Indicatori!$B$5","v":0},{"$f":"INDIRECT(ADDRESS(1,7-C28,,,\"Griglia\"))","v":0},{"$f":"INDIRECT(ADDRESS(1,7-D28,,,\"Griglia\"))","v":0},{"$f":"INDIRECT(ADDRESS(1,7-E28,,,\"Griglia\"))","v":0},{"$f":"INDIRECT(ADDRESS(1,7-F28,,,\"Griglia\"))","v":0},{"$f":"(Q28*Indicatori!$B$2+Giudizi!R28*Indicatori!$B$3+Giudizi!S28*Indicatori!$B$4+Giudizi!T28*Indicatori!$B$5)/SUM(Indicatori!$B$2:$B$5)","v":0}]
[null,null,null,null,null,null,null,null,null,null,{"$f":"IF(A29<>\"\",C29*Indicatori!$B$2+Giudizi!D29*Indicatori!$B$3+Giudizi!E29*Indicatori!$B$4+Giudizi!F29*Indicatori!$B$5,\"\")","v":""},"",{"$f":"C29*Indicatori!$B$2","v":0},{"$f":"D29*Indicatori!$B$3","v":0},{"$f":"E29*Indicatori!$B$4","v":0},{"$f":"F29*Indicatori!$B$5","v":0},{"$f":"INDIRECT(ADDRESS(1,7-C29,,,\"Griglia\"))","v":0},{"$f":"INDIRECT(ADDRESS(1,7-D29,,,\"Griglia\"))","v":0},{"$f":"INDIRECT(ADDRESS(1,7-E29,,,\"Griglia\"))","v":0},{"$f":"INDIRECT(ADDRESS(1,7-F29,,,\"Griglia\"))","v":0},{"$f":"(Q29*Indicatori!$B$2+Giudizi!R29*Indicatori!$B$3+Giudizi!S29*Indicatori!$B$4+Giudizi!T29*Indicatori!$B$5)/SUM(Indicatori!$B$2:$B$5)","v":0}]
[null,null,null,null,null,null,null,null,null,null,{"$f":"IF(A30<>\"\",C30*Indicatori!$B$2+Giudizi!D30*Indicatori!$B$3+Giudizi!E30*Indicatori!$B$4+Giudizi!F30*Indicatori!$B$5,\"\")","v":""},"",{"$f":"C30*Indicatori!$B$2","v":0},{"$f":"D30*Indicatori!$B$3","v":0},{"$f":"E30*Indicatori!$B$4","v":0},{"$f":"F30*Indicatori!$B$5","v":0},{"$f":"INDIRECT(ADDRESS(1,7-C30,,,\"Griglia\"))","v":0},{"$f":"INDIRECT(ADDRESS(1,7-D30,,,\"Griglia\"))","v":0},{"$f":"INDIRECT(ADDRESS(1,7-E30,,,\"Griglia\"))","v":0},{"$f":"INDIRECT(ADDRESS(1,7-F30,,,\"Griglia\"))","v":0},{"$f":"(Q30*Indicatori!$B$2+Giudizi!R30*Indicatori!$B$3+Giudizi!S30*Indicatori!$B$4+Giudizi!T30*Indicatori!$B$5)/SUM(Indicatori!$B$2:$B$5)","v":0}]
[null,null,null,null,null,null,null,null,null,null,{"$f":"IF(A31<>\"\",C31*Indicatori!$B$2+Giudizi!D31*Indicatori!$B$3+Giudizi!E31*Indicatori!$B$4+Giudizi!F31*Indicatori!$B$5,\"\")","v":""},"",{"$f":"C31*Indicatori!$B$2","v":0},{"$f":"D31*Indicatori!$B$3","v":0},{"$f":"E31*Indicatori!$B$4","v":0},{"$f":"F31*Indicatori!$B$5","v":0},{"$f":"INDIRECT(ADDRESS(1,7-C31,,,\"Griglia\"))","v":0},{"$f":"INDIRECT(ADDRESS(1,7-D31,,,\"Griglia\"))","v":0},{"$f":"INDIRECT(ADDRESS(1,7-E31,,,\"Griglia\"))","v":0},{"$f":"INDIRECT(ADDRESS(1,7-F31,,,\"Griglia\"))","v":0},{"$f":"(Q31*Indicatori!$B$2+Giudizi!R31*Indicatori!$B$3+Giudizi!S31*Indicatori!$B$4+Giudizi!T31*Indicatori!$B$5)/SUM(Indicatori!$B$2:$B$5)","v":0}]
[null,null,null,null,null,null,null,null,null,null,{"$f":"IF(A32<>\"\",C32*Indicatori!$B$2+Giudizi!D32*Indicatori!$B$3+Giudizi!E32*Indicatori!$B$4+Giudizi!F32*Indicatori!$B$5,\"\")","v":""},"",{"$f":"C32*Indicatori!$B$2","v":0},{"$f":"D32*Indicatori!$B$3","v":0},{"$f":"E32*Indicatori!$B$4","v":0},{"$f":"F32*Indicatori!$B$5","v":0},{"$f":"INDIRECT(ADDRESS(1,7-C32,,,\"Griglia\"))","v":0},{"$f":"INDIRECT(ADDRESS(1,7-D32,,,\"Griglia\"))","v":0},{"$f":"INDIRECT(ADDRESS(1,7-E32,,,\"Griglia\"))","v":0},{"$f":"INDIRECT(ADDRESS(1,7-F32,,,\"Griglia\"))","v":0},{"$f":"(Q32*Indicatori!$B$2+Giudizi!R32*Indicatori!$B$3+Giudizi!S32*Indicatori!$B$4+Giudizi!T32*Indicatori!$B$5)/SUM(Indicatori!$B$2:$B$5)","v":0}]
[null,null,null,null,null,null,null,null,null,null,{"$f":"IF(A33<>\"\",C33*Indicatori!$B$2+Giudizi!D33*Indicatori!$B$3+Giudizi!E33*Indicatori!$B$4+Giudizi!F33*Indicatori!$B$5,\"\")","v":""},"",{"$f":"C33*Indicatori!$B$2","v":0},{"$f":"D33*Indicatori!$B$3","v":0},{"$f":"E33*Indicatori!$B$4","v":0},{"$f":"F33*Indicatori!$B$5","v":0},{"$f":"INDIRECT(ADDRESS(1,7-C33,,,\"Griglia\"))","v":0},{"$f":"INDIRECT(ADDRESS(1,7-D33,,,\"Griglia\"))","v":0},{"$f":"INDIRECT(ADDRESS(1,7-E33,,,\"Griglia\"))","v":0},{"$f":"INDIRECT(ADDRESS(1,7-F33,,,\"Griglia\"))","v":0},{"$f":"(Q33*Indicatori!$B$2+Giudizi!R33*Indicatori!$B$3+Giudizi!S33*Indicatori!$B$4+Giudizi!T33*Indicatori!$B$5)/SUM(Indicatori!$B$2:$B$5)","v":0}]
[null,null,null,null,null,null,null,null,null,null,{"$f":"IF(A34<>\"\",C34*Indicatori!$B$2+Giudizi!D34*Indicatori!$B$3+Giudizi!E34*Indicatori!$B$4+Giudizi!F34*Indicatori!$B$5,\"\")","v":""},"",{"$f":"C34*Indicatori!$B$2","v":0},{"$f":"D34*Indicatori!$B$3","v":0},{"$f":"E34*Indicatori!$B$4","v":0},{"$f":"F34*Indicatori!$B$5","v":0},{"$f":"INDIRECT(ADDRESS(1,7-C34,,,\"Griglia\"))","v":0},{"$f":"INDIRECT(ADDRESS(1,7-D34,,,\"Griglia\"))","v":0},{"$f":"INDIRECT(ADDRESS(1,7-E34,,,\"Griglia\"))","v":0},{"$f":"INDIRECT(ADDRESS(1,7-F34,,,\"Griglia\"))","v":0},{"$f":"(Q34*Indicatori!$B$2+Giudizi!R34*Indicatori!$B$3+Giudizi!S34*Indicatori!$B$4+Giudizi!T34*Indicatori!$B$5)/SUM(Indicatori!$B$2:$B$5)","v":0}]
[null,null,null,null,null,null,null,null,null,null,{"$f":"IF(A35<>\"\",C35*Indicatori!$B$2+Giudizi!D35*Indicatori!$B$3+Giudizi!E35*Indicatori!$B$4+Giudizi!F35*Indicatori!$B$5,\"\")","v":""},"",{"$f":"C35*Indicatori!$B$2","v":0},{"$f":"D35*Indicatori!$B$3","v":0},{"$f":"E35*Indicatori!$B$4","v":0},{"$f":"F35*Indicatori!$B$5","v":0},{"$f":"INDIRECT(ADDRESS(1,7-C35,,,\"Griglia\"))","v":0},{"$f":"INDIRECT(ADDRESS(1,7-D35,,,\"Griglia\"))","v":0},{"$f":"INDIRECT(ADDRESS(1,7-E35,,,\"Griglia\"))","v":0},{"$f":"INDIRECT(ADDRESS(1,7-F35,,,\"Griglia\"))","v":0},{"$f":"(Q35*Indicatori!$B$2+Giudizi!R35*Indicatori!$B$3+Giudizi!S35*Indicatori!$B$4+Giudizi!T35*Indicatori!$B$5)/SUM(Indicatori!$B$2:$B$5)","v":0}]
[null,null,null,null,null,null,null,null,null,null,{"$f":"IF(A36<>\"\",C36*Indicatori!$B$2+Giudizi!D36*Indicatori!$B$3+Giudizi!E36*Indicatori!$B$4+Giudizi!F36*Indicatori!$B$5,\"\")","v":""},"",{"$f":"C36*Indicatori!$B$2","v":0},{"$f":"D36*Indicatori!$B$3","v":0},{"$f":"E36*Indicatori!$B$4","v":0},{"$f":"F36*Indicatori!$B$5","v":0},{"$f":"INDIRECT(ADDRESS(1,7-C36,,,\"Griglia\"))","v":0},{"$f":"INDIRECT(ADDRESS(1,7-D36,,,\"Griglia\"))","v":0},{"$f":"INDIRECT(ADDRESS(1,7-E36,,,\"Griglia\"))","v":0},{"$f":"INDIRECT(ADDRESS(1,7-F36,,,\"Griglia\"))","v":0},{"$f":"(Q36*Indicatori!$B$2+Giudizi!R36*Indicatori!$B$3+Giudizi!S36*Indicatori!$B$4+Giudizi!T36*Indicatori!$B$5)/SUM(Indicatori!$B$2:$B$5)","v":0}]
[null,null,null,null,null,null,null,null,null,null,{"$f":"IF(A37<>\"\",C37*Indicatori!$B$2+Giudizi!D37*Indicatori!$B$3+Giudizi!E37*Indicatori!$B$4+Giudizi!F37*Indicatori!$B$5,\"\")","v":""},"",{"$f":"C37*Indicatori!$B$2","v":0},{"$f":"D37*Indicatori!$B$3","v":0},{"$f":"E37*Indicatori!$B$4","v":0},{"$f":"F37*Indicatori!$B$5","v":0},{"$f":"INDIRECT(ADDRESS(1,7-C37,,,\"Griglia\"))","v":0},{"$f":"INDIRECT(ADDRESS(1,7-D37,,,\"Griglia\"))","v":0},{"$f":"INDIRECT(ADDRESS(1,7-E37,,,\"Griglia\"))","v":0},{"$f":"INDIRECT(ADDRESS(1,7-F37,,,\"Griglia\"))","v":0},{"$f":"(Q37*Indicatori!$B$2+Giudizi!R37*Indicatori!$B$3+Giudizi!S37*Indicatori!$B$4+Giudizi!T37*Indicatori!$B$5)/SUM(Indicatori!$B$2:$B$5)","v":0}]
[null,null,null,null,null,null,null,null,null,null,{"$f":"IF(A38<>\"\",C38*Indicatori!$B$2+Giudizi!D38*Indicatori!$B$3+Giudizi!E38*Indicatori!$B$4+Giudizi!F38*Indicatori!$B$5,\"\")","v":""},"",{"$f":"C38*Indicatori!$B$2","v":0},{"$f":"D38*Indicatori!$B$3","v":0},{"$f":"E38*Indicatori!$B$4","v":0},{"$f":"F38*Indicatori!$B$5","v":0},{"$f":"INDIRECT(ADDRESS(1,7-C38,,,\"Griglia\"))","v":0},{"$f":"INDIRECT(ADDRESS(1,7-D38,,,\"Griglia\"))","v":0},{"$f":"INDIRECT(ADDRESS(1,7-E38,,,\"Griglia\"))","v":0},{"$f":"INDIRECT(ADDRESS(1,7-F38,,,\"Griglia\"))","v":0},{"$f":"(Q38*Indicatori!$B$2+Giudizi!R38*Indicatori!$B$3+Giudizi!S38*Indicatori!$B$4+Giudizi!T38*Indicatori!$B$5)/SUM(Indicatori!$B$2:$B$5)","v":0}]
[null,null,null,null,null,null,null,null,null,null,{"$f":"IF(A39<>\"\",C39*Indicatori!$B$2+Giudizi!D39*Indicatori!$B$3+Giudizi!E39*Indicatori!$B$4+Giudizi!F39*Indicatori!$B$5,\"\")","v":""},"",{"$f":"C39*Indicatori!$B$2","v":0},{"$f":"D39*Indicatori!$B$3","v":0},{"$f":"E39*Indicatori!$B$4","v":0},{"$f":"F39*Indicatori!$B$5","v":0},{"$f":"INDIRECT(ADDRESS(1,7-C39,,,\"Griglia\"))","v":0},{"$f":"INDIRECT(ADDRESS(1,7-D39,,,\"Griglia\"))","v":0},{"$f":"INDIRECT(ADDRESS(1,7-E39,,,\"Griglia\"))","v":0},{"$f":"INDIRECT(ADDRESS(1,7-F39,,,\"Griglia\"))","v":0},{"$f":"(Q39*Indicatori!$B$2+Giudizi!R39*Indicatori!$B$3+Giudizi!S39*Indicatori!$B$4+Giudizi!T39*Indicatori!$B$5)/SUM(Indicatori!$B$2:$B$5)","v":0}]
[null,null,null,null,null,null,null,null,null,null,{"$f":"IF(A40<>\"\",C40*Indicatori!$B$2+Giudizi!D40*Indicatori!$B$3+Giudizi!E40*Indicatori!$B$4+Giudizi!F40*Indicatori!$B$5,\"\")","v":""},"",{"$f":"C40*Indicatori!$B$2","v":0},{"$f":"D40*Indicatori!$B$3","v":0},{"$f":"E40*Indicatori!$B$4","v":0},{"$f":"F40*Indicatori!$B$5","v":0},{"$f":"INDIRECT(ADDRESS(1,7-C40,,,\"Griglia\"))","v":0},{"$f":"INDIRECT(ADDRESS(1,7-D40,,,\"Griglia\"))","v":0},{"$f":"INDIRECT(ADDRESS(1,7-E40,,,\"Griglia\"))","v":0},{"$f":"INDIRECT(ADDRESS(1,7-F40,,,\"Griglia\"))","v":0},{"$f":"(Q40*Indicatori!$B$2+Giudizi!R40*Indicatori!$B$3+Giudizi!S40*Indicatori!$B$4+Giudizi!T40*Indicatori!$B$5)/SUM(Indicatori!$B$2:$B$5)","v":0}]
[null,null,null,null,null,null,null,null,null,null,{"$f":"IF(A41<>\"\",C41*Indicatori!$B$2+Giudizi!D41*Indicatori!$B$3+Giudizi!E41*Indicatori!$B$4+Giudizi!F41*Indicatori!$B$5,\"\")","v":""},"",{"$f":"C41*Indicatori!$B$2","v":0},{"$f":"D41*Indicatori!$B$3","v":0},{"$f":"E41*Indicatori!$B$4","v":0},{"$f":"F41*Indicatori!$B$5","v":0},{"$f":"INDIRECT(ADDRESS(1,7-C41,,,\"Griglia\"))","v":0},{"$f":"INDIRECT(ADDRESS(1,7-D41,,,\"Griglia\"))","v":0},{"$f":"INDIRECT(ADDRESS(1,7-E41,,,\"Griglia\"))","v":0},{"$f":"INDIRECT(ADDRESS(1,7-F41,,,\"Griglia\"))","v":0},{"$f":"(Q41*Indicatori!$B$2+Giudizi!R41*Indicatori!$B$3+Giudizi!S41*Indicatori!$B$4+Giudizi!T41*Indicatori!$B$5)/SUM(Indicatori!$B$2:$B$5)","v":0}]
[null,null,null,null,null,null,null,null,null,null,{"$f":"IF(A42<>\"\",C42*Indicatori!$B$2+Giudizi!D42*Indicatori!$B$3+Giudizi!E42*Indicatori!$B$4+Giudizi!F42*Indicatori!$B$5,\"\")","v":""},"",{"$f":"C42*Indicatori!$B$2","v":0},{"$f":"D42*Indicatori!$B$3","v":0},{"$f":"E42*Indicatori!$B$4","v":0},{"$f":"F42*Indicatori!$B$5","v":0},{"$f":"INDIRECT(ADDRESS(1,7-C42,,,\"Griglia\"))","v":0},{"$f":"INDIRECT(ADDRESS(1,7-D42,,,\"Griglia\"))","v":0},{"$f":"INDIRECT(ADDRESS(1,7-E42,,,\"Griglia\"))","v":0},{"$f":"INDIRECT(ADDRESS(1,7-F42,,,\"Griglia\"))","v":0},{"$f":"(Q42*Indicatori!$B$2+Giudizi!R42*Indicatori!$B$3+Giudizi!S42*Indicatori!$B$4+Giudizi!T42*Indicatori!$B$5)/SUM(Indicatori!$B$2:$B$5)","v":0}]
[null,null,null,null,null,null,null,null,null,null,{"$f":"IF(A43<>\"\",C43*Indicatori!$B$2+Giudizi!D43*Indicatori!$B$3+Giudizi!E43*Indicatori!$B$4+Giudizi!F43*Indicatori!$B$5,\"\")","v":""},"",{"$f":"C43*Indicatori!$B$2","v":0},{"$f":"D43*Indicatori!$B$3","v":0},{"$f":"E43*Indicatori!$B$4","v":0},{"$f":"F43*Indicatori!$B$5","v":0},{"$f":"INDIRECT(ADDRESS(1,7-C43,,,\"Griglia\"))","v":0},{"$f":"INDIRECT(ADDRESS(1,7-D43,,,\"Griglia\"))","v":0},{"$f":"INDIRECT(ADDRESS(1,7-E43,,,\"Griglia\"))","v":0},{"$f":"INDIRECT(ADDRESS(1,7-F43,,,\"Griglia\"))","v":0},{"$f":"(Q43*Indicatori!$B$2+Giudizi!R43*Indicatori!$B$3+Giudizi!S43*Indicatori!$B$4+Giudizi!T43*Indicatori!$B$5)/SUM(Indicatori!$B$2:$B$5)","v":0}]
[null,null,null,null,null,null,null,null,null,null,{"$f":"IF(A44<>\"\",C44*Indicatori!$B$2+Giudizi!D44*Indicatori!$B$3+Giudizi!E44*Indicatori!$B$4+Giudizi!F44*Indicatori!$B$5,\"\")","v":""},"",{"$f":"C44*Indicatori!$B$2","v":0},{"$f":"D44*Indicatori!$B$3","v":0},{"$f":"E44*Indicatori!$B$4","v":0},{"$f":"F44*Indicatori!$B$5","v":0},{"$f":"INDIRECT(ADDRESS(1,7-C44,,,\"Griglia\"))","v":0},{"$f":"INDIRECT(ADDRESS(1,7-D44,,,\"Griglia\"))","v":0},{"$f":"INDIRECT(ADDRESS(1,7-E44,,,\"Griglia\"))","v":0},{"$f":"INDIRECT(ADDRESS(1,7-F44,,,\"Griglia\"))","v":0},{"$f":"(Q44*Indicatori!$B$2+Giudizi!R44*Indicatori!$B$3+Giudizi!S44*Indicatori!$B$4+Giudizi!T44*Indicatori!$B$5)/SUM(Indicatori!$B$2:$B$5)","v":0}]
[null,null,null,null,null,null,null,null,null,null,{"$f":"IF(A45<>\"\",C45*Indicatori!$B$2+Giudizi!D45*Indicatori!$B$3+Giudizi!E45*Indicatori!$B$4+Giudizi!F45*Indicatori!$B$5,\"\")","v":""},"",{"$f":"C45*Indicatori!$B$2","v":0},{"$f":"D45*Indicatori!$B$3","v":0},{"$f":"E45*Indicatori!$B$4","v":0},{"$f":"F45*Indicatori!$B$5","v":0},{"$f":"INDIRECT(ADDRESS(1,7-C45,,,\"Griglia\"))","v":0},{"$f":"INDIRECT(ADDRESS(1,7-D45,,,\"Griglia\"))","v":0},{"$f":"INDIRECT(ADDRESS(1,7-E45,,,\"Griglia\"))","v":0},{"$f":"INDIRECT(ADDRESS(1,7-F45,,,\"Griglia\"))","v":0},{"$f":"(Q45*Indicatori!$B$2+Giudizi!R45*Indicatori!$B$3+Giudizi!S45*Indicatori!$B$4+Giudizi!T45*Indicatori!$B$5)/SUM(Indicatori!$B$2:$B$5)","v":0}]
[null,null,null,null,null,null,null,null,null,null,{"$f":"IF(A46<>\"\",C46*Indicatori!$B$2+Giudizi!D46*Indicatori!$B$3+Giudizi!E46*Indicatori!$B$4+Giudizi!F46*Indicatori!$B$5,\"\")","v":""},"",{"$f":"C46*Indicatori!$B$2","v":0},{"$f":"D46*Indicatori!$B$3","v":0},{"$f":"E46*Indicatori!$B$4","v":0},{"$f":"F46*Indicatori!$B$5","v":0},{"$f":"INDIRECT(ADDRESS(1,7-C46,,,\"Griglia\"))","v":0},{"$f":"INDIRECT(ADDRESS(1,7-D46,,,\"Griglia\"))","v":0},{"$f":"INDIRECT(ADDRESS(1,7-E46,,,\"Griglia\"))","v":0},{"$f":"INDIRECT(ADDRESS(1,7-F46,,,\"Griglia\"))","v":0},{"$f":"(Q46*Indicatori!$B$2+Giudizi!R46*Indicatori!$B$3+Giudizi!S46*Indicatori!$B$4+Giudizi!T46*Indicatori!$B$5)/SUM(Indicatori!$B$2:$B$5)","v":0}]
[null,null,null,null,null,null,null,null,null,null,{"$f":"IF(A47<>\"\",C47*Indicatori!$B$2+Giudizi!D47*Indicatori!$B$3+Giudizi!E47*Indicatori!$B$4+Giudizi!F47*Indicatori!$B$5,\"\")","v":""},"",{"$f":"C47*Indicatori!$B$2","v":0},{"$f":"D47*Indicatori!$B$3","v":0},{"$f":"E47*Indicatori!$B$4","v":0},{"$f":"F47*Indicatori!$B$5","v":0},{"$f":"INDIRECT(ADDRESS(1,7-C47,,,\"Griglia\"))","v":0},{"$f":"INDIRECT(ADDRESS(1,7-D47,,,\"Griglia\"))","v":0},{"$f":"INDIRECT(ADDRESS(1,7-E47,,,\"Griglia\"))","v":0},{"$f":"INDIRECT(ADDRESS(1,7-F47,,,\"Griglia\"))","v":0},{"$f":"(Q47*Indicatori!$B$2+Giudizi!R47*Indicatori!$B$3+Giudizi!S47*Indicatori!$B$4+Giudizi!T47*Indicatori!$B$5)/SUM(Indicatori!$B$2:$B$5)","v":0}]
[null,null,null,null,null,null,null,null,null,null,{"$f":"IF(A48<>\"\",C48*Indicatori!$B$2+Giudizi!D48*Indicatori!$B$3+Giudizi!E48*Indicatori!$B$4+Giudizi!F48*Indicatori!$B$5,\"\")","v":""},"",{"$f":"C48*Indicatori!$B$2","v":0},{"$f":"D48*Indicatori!$B$3","v":0},{"$f":"E48*Indicatori!$B$4","v":0},{"$f":"F48*Indicatori!$B$5","v":0},{"$f":"INDIRECT(ADDRESS(1,7-C48,,,\"Griglia\"))","v":0},{"$f":"INDIRECT(ADDRESS(1,7-D48,,,\"Griglia\"))","v":0},{"$f":"INDIRECT(ADDRESS(1,7-E48,,,\"Griglia\"))","v":0},{"$f":"INDIRECT(ADDRESS(1,7-F48,,,\"Griglia\"))","v":0},{"$f":"(Q48*Indicatori!$B$2+Giudizi!R48*Indicatori!$B$3+Giudizi!S48*Indicatori!$B$4+Giudizi!T48*Indicatori!$B$5)/SUM(Indicatori!$B$2:$B$5)","v":0}]
[null,null,null,null,null,null,null,null,null,null,{"$f":"IF(A49<>\"\",C49*Indicatori!$B$2+Giudizi!D49*Indicatori!$B$3+Giudizi!E49*Indicatori!$B$4+Giudizi!F49*Indicatori!$B$5,\"\")","v":""},"",{"$f":"C49*Indicatori!$B$2","v":0},{"$f":"D49*Indicatori!$B$3","v":0},{"$f":"E49*Indicatori!$B$4","v":0},{"$f":"F49*Indicatori!$B$5","v":0},{"$f":"INDIRECT(ADDRESS(1,7-C49,,,\"Griglia\"))","v":0},{"$f":"INDIRECT(ADDRESS(1,7-D49,,,\"Griglia\"))","v":0},{"$f":"INDIRECT(ADDRESS(1,7-E49,,,\"Griglia\"))","v":0},{"$f":"INDIRECT(ADDRESS(1,7-F49,,,\"Griglia\"))","v":0},{"$f":"(Q49*Indicatori!$B$2+Giudizi!R49*Indicatori!$B$3+Giudizi!S49*Indicatori!$B$4+Giudizi!T49*Indicatori!$B$5)/SUM(Indicatori!$B$2:$B$5)","v":0}]
[null,null,null,null,null,null,null,null,null,null,{"$f":"IF(A50<>\"\",C50*Indicatori!$B$2+Giudizi!D50*Indicatori!$B$3+Giudizi!E50*Indicatori!$B$4+Giudizi!F50*Indicatori!$B$5,\"\")","v":""},"",{"$f":"C50*Indicatori!$B$2","v":0},{"$f":"D50*Indicatori!$B$3","v":0},{"$f":"E50*Indicatori!$B$4","v":0},{"$f":"F50*Indicatori!$B$5","v":0},{"$f":"INDIRECT(ADDRESS(1,7-C50,,,\"Griglia\"))","v":0},{"$f":"INDIRECT(ADDRESS(1,7-D50,,,\"Griglia\"))","v":0},{"$f":"INDIRECT(ADDRESS(1,7-E50,,,\"Griglia\"))","v":0},{"$f":"INDIRECT(ADDRESS(1,7-F50,,,\"Griglia\"))","v":0},{"$f":"(Q50*Indicatori!$B$2+Giudizi!R50*Indicatori!$B$3+Giudizi!S50*Indicatori!$B$4+Giudizi!T50*Indicatori!$B$5)/SUM(Indicatori!$B$2:$B$5)","v":0}]
[null,null,null,null,null,null,null,null,null,null,{"$f":"IF(A51<>\"\",C51*Indicatori!$B$2+Giudizi!D51*Indicatori!$B$3+Giudizi!E51*Indicatori!$B$4+Giudizi!F51*Indicatori!$B$5,\"\")","v":""},"",{"$f":"C51*Indicatori!$B$2","v":0},{"$f":"D51*Indicatori!$B$3","v":0},{"$f":"E51*Indicatori!$B$4","v":0},{"$f":"F51*Indicatori!$B$5","v":0},{"$f":"INDIRECT(ADDRESS(1,7-C51,,,\"Griglia\"))","v":0},{"$f":"INDIRECT(ADDRESS(1,7-D51,,,\"Griglia\"))","v":0},{"$f":"INDIRECT(ADDRESS(1,7-E51,,,\"Griglia\"))","v":0},{"$f":"INDIRECT(ADDRESS(1,7-F51,,,\"Griglia\"))","v":0},{"$f":"(Q51*Indicatori!$B$2+Giudizi!R51*Indicatori!$B$3+Giudizi!S51*Indicatori!$B$4+Giudizi!T51*Indicatori!$B$5)/SUM(Indicatori!$B$2:$B$5)","v":0}]
[null,null,null,null,null,null,null,null,null,null,{"$f":"IF(A52<>\"\",C52*Indicatori!$B$2+Giudizi!D52*Indicatori!$B$3+Giudizi!E52*Indicatori!$B$4+Giudizi!F52*Indicatori!$B$5,\"\")","v":""},""]
[null,null,null,null,null,null,null,null,null,null,{"$f":"IF(A53<>\"\",C53*Indicatori!$B$2+Giudizi!D53*Indicatori!$B$3+Giudizi!E53*Indicatori!$B$4+Giudizi!F53*Indicatori!$B$5,\"\")","v":""},""]
[null,null,null,null,null,null,null,null,null,null,{"$f":"IF(A54<>\"\",C54*Indicatori!$B$2+Giudizi!D54*Indicatori!$B$3+Giudizi!E54*Indicatori!$B$4+Giudizi!F54*Indicatori!$B$5,\"\")","v":""},""]
[null,null,null,null,null,null,null,null,null,null,{"$f":"IF(A55<>\"\",C55*Indicatori!$B$2+Giudizi!D55*Indicatori!$B$3+Giudizi!E55*Indicatori!$B$4+Giudizi!F55*Indicatori!$B$5,\"\")","v":""}]